BEGIN:VCALENDAR
VERSION:2.0
PRODID:-//The DEC Network - ECPv6.15.20//NONSGML v1.0//EN
CALSCALE:GREGORIAN
METHOD:PUBLISH
X-WR-CALNAME:The DEC Network
X-ORIGINAL-URL:https://thedec.co
X-WR-CALDESC:Events for The DEC Network
REFRESH-INTERVAL;VALUE=DURATION:PT1H
X-Robots-Tag:noindex
X-PUBLISHED-TTL:PT1H
BEGIN:VTIMEZONE
TZID:America/Chicago
BEGIN:DAYLIGHT
TZOFFSETFROM:-0600
TZOFFSETTO:-0500
TZNAME:CDT
DTSTART:20220313T080000
END:DAYLIGHT
BEGIN:STANDARD
TZOFFSETFROM:-0500
TZOFFSETTO:-0600
TZNAME:CST
DTSTART:20221106T070000
END:STANDARD
BEGIN:DAYLIGHT
TZOFFSETFROM:-0600
TZOFFSETTO:-0500
TZNAME:CDT
DTSTART:20230312T080000
END:DAYLIGHT
BEGIN:STANDARD
TZOFFSETFROM:-0500
TZOFFSETTO:-0600
TZNAME:CST
DTSTART:20231105T070000
END:STANDARD
BEGIN:DAYLIGHT
TZOFFSETFROM:-0600
TZOFFSETTO:-0500
TZNAME:CDT
DTSTART:20240310T080000
END:DAYLIGHT
BEGIN:STANDARD
TZOFFSETFROM:-0500
TZOFFSETTO:-0600
TZNAME:CST
DTSTART:20241103T070000
END:STANDARD
END:VTIMEZONE
BEGIN:VEVENT
DTSTART;TZID=America/Chicago:20230316T180000
DTEND;TZID=America/Chicago:20230316T193000
DTSTAMP:20260421T052418
CREATED:20230308T202445Z
LAST-MODIFIED:20230308T202448Z
UID:10000003-1678989600-1678995000@thedec.co
SUMMARY:Third Thursday Think Tank- Legal Considerations for Small Businesses
DESCRIPTION:HYBRID Workshop- IN_PERSON and ONLINE options Join the UTA Veterans Business Outreach Center and James Runzheimer\, Attorney at Runzheimer Law will as they walk you through your small business legal options and obligations including: \n\n\n\n1. Why do you want to be an entrepreneur?2. Who are you going to do business with?3. Form of your business entity4. Using Written Contracts5. Payroll Taxes6. Trademarks and Copyrights7. Buy a Business or Franchise?8. Basic Employment Law9. Getting cash out of the business10. Cybersecurity
URL:https://thedec.co/cal/third-thursday-think-tank-legal-considerations-for-small-businesses/
LOCATION:UTA College of Business 701 S West Street Room 609\, Arlington TX\, 76019\, 701 S West Street Room 609\, Arlington\, Texas\, 76019\, United States
CATEGORIES:community event
END:VEVENT
END:VCALENDAR